BEGIN:VCALENDAR
VERSION:2.0
PRODID:-//Squarespace Inc/Squarespace 6//v6//EN
BEGIN:VEVENT
UID:5be10d0c8a922d56a9bc1a5c@squarespace.com
DTSTAMP:20181106T034349Z
DTSTART:20181110T210000Z
DTEND:20181111T000000Z
SUMMARY:Cars + Coffee at TEKNO
GEO:-27.751665;153.234601
LOCATION:TEKNO Performance\, 11 Dixon Street\, Yatala\, QLD\, 4207\, Austra
 lia
END:VEVENT
END:VCALENDAR
