BEGIN:VCALENDAR
VERSION:2.0
PRODID:-//Squarespace Inc/Squarespace 6//v6//EN
BEGIN:VEVENT
UID:5cc0263224a694cbe867832b@squarespace.com
DTSTAMP:20190424T090657Z
DTSTART:20190427T210000Z
DTEND:20190427T230000Z
SUMMARY:CARS + COFFEE at TEKNO HQ
GEO:-27.751665;153.234601
LOCATION:TEKNO Performance\, 11 Dixon Street\, Yatala QLD 4207\, Australia
END:VEVENT
END:VCALENDAR
