BEGIN:VCALENDAR
VERSION:2.0
PRODID:-//Squarespace Inc/Squarespace 6//v6//EN
BEGIN:VEVENT
UID:5c9858cc1905f42a6f514b54@squarespace.com
DTSTAMP:20190325T043631Z
DTSTART:20190406T210000Z
DTEND:20190407T040000Z
SUMMARY:TEKNO : Bullrush Rally\, 7 April 2019
GEO:-27.751665;153.234601
LOCATION:TEKNO Performance\, 11 Dixon Street\, Yatala QLD 4207\, Australia
END:VEVENT
END:VCALENDAR
